BEGIN:VCALENDAR
VERSION:2.0
PRODID:-//GB infraVelo GmbH//DE
CALSCALE:GREGORIAN
BEGIN:VTIMEZONE
TZID:Europe/Berlin
BEGIN:DAYLIGHT
TZOFFSETFROM:+0100
RRULE:FREQ=YEARLY;BYMONTH=3;BYDAY=-1SU
DTSTART:19810329T020000
TZNAME:MESZ
TZOFFSETTO:+0200
END:DAYLIGHT
BEGIN:STANDARD
TZOFFSETFROM:+0200
RRULE:FREQ=YEARLY;BYMONTH=10;BYDAY=-1SU
DTSTART:19961027T030000
TZNAME:MEZ
TZOFFSETTO:+0100
END:STANDARD
END:VTIMEZONE
BEGIN:VEVENT
UID:132
CREATED:20220406T145038
DTSTAMP:20220608T101550
SUMMARY:infraVelo auf der VELOBerlin
DTSTART;TZID=Europe/Berlin:20220409T100000
DTEND;TZID=Europe/Berlin:20220410T200000
LOCATION:Flughafen Tempelhof, Stand OUT_E21
DESCRIPTION:infraVelo nimmt in diesem Jahr an der Publikumsmesse VELOBerlin teil. Am 9. und 10. April finden Sie uns auf dem Gelände des Flughafens Tempelhof am Stand OUT_E21.
TRANSP:TRANSPARENT
SEQUENCE:0
END:VEVENT
END:VCALENDAR