BEGIN:VCALENDAR
VERSION:2.0
PRODID:-//GB infraVelo GmbH//DE
CALSCALE:GREGORIAN
BEGIN:VTIMEZONE
TZID:Europe/Berlin
BEGIN:DAYLIGHT
TZOFFSETFROM:+0100
RRULE:FREQ=YEARLY;BYMONTH=3;BYDAY=-1SU
DTSTART:19810329T020000
TZNAME:MESZ
TZOFFSETTO:+0200
END:DAYLIGHT
BEGIN:STANDARD
TZOFFSETFROM:+0200
RRULE:FREQ=YEARLY;BYMONTH=10;BYDAY=-1SU
DTSTART:19961027T030000
TZNAME:MEZ
TZOFFSETTO:+0100
END:STANDARD
END:VTIMEZONE
BEGIN:VEVENT
UID:232
CREATED:20250818T155512
DTSTAMP:20250916T135003
SUMMARY:Anradeln der "Opernroute Nord"
DTSTART;TZID=Europe/Berlin:20250826T173000
DTEND;TZID=Europe/Berlin:20250826T183000
LOCATION:Götz-Friedrich-Platz an der Deutschen Oper
DESCRIPTION:Auf die Räder, fertig - los! Wir feiern den Projektabschluss und laden zum Anradeln ein.
TRANSP:TRANSPARENT
SEQUENCE:0
END:VEVENT
END:VCALENDAR